	BEGIN:VCALENDAR
VERSION:2.0
PRODID:-//wp-events-plugin.com//7.2.3.1//EN
TZID:Europe/Warsaw
X-WR-TIMEZONE:Europe/Warsaw
BEGIN:VEVENT
UID:335@oswiatowo.pl
DTSTART;TZID=Europe/Warsaw:20250903T000000
DTEND;TZID=Europe/Warsaw:20250903T000000
DTSTAMP:20250826T113846Z
URL:https://oswiatowo.pl/events/przeprowadzanie-egzaminow-poprawkowych-w-d
 odatkowym-terminie/
SUMMARY:Przeprowadzanie egzaminów poprawkowych w dodatkowym terminie
DESCRIPTION:Przeprowadzanie egzaminów poprawkowych w dodatkowym terminie (
 nie później niż do końca września)\n\nWięcej: Egzamin poprawkowy kr
 ok po kroku\n\n&nbsp\;\n\nPodstawa prawna:\n\n 	art. 44m ust. 3 ustawa z d
 nia 7 września 1991 r. o systemie oświaty\n\n&nbsp\;
END:VEVENT
BEGIN:VTIMEZONE
TZID:Europe/Warsaw
X-LIC-LOCATION:Europe/Warsaw
BEGIN:DAYLIGHT
DTSTART:20250330T030000
TZOFFSETFROM:+0100
TZOFFSETTO:+0200
TZNAME:CEST
END:DAYLIGHT
END:VTIMEZONE
END:VCALENDAR